Workbook

Sheet How to use
A1: Greenwick Free Trading Journal
A3: A simple journal for day traders. Free to use and share.
A5: 1. Go to the Trades sheet. Fill in the yellow columns for each trade (one row per round trip).
A6: 2. Grey columns calculate themselves: P&L, R multiple and Result. Don't type in them.
A7: 3. Put your setup names and mistake tags on the Lists sheet. They become dropdowns on the Trades sheet.
A8: 4. The Summary sheet updates on its own: totals, win rate, average win and loss, profit factor, and results by setup.
A9: 5. Row 2 on the Trades sheet is an example. Delete it when you start.
A11: Side: Long or Short. Stop: the price where you planned to get out if wrong (used to calculate R).
A12: R multiple = P&L divided by the dollars you risked (entry to stop, times shares).
A13: Fees: enter commissions and fees per trade if your broker charges them; they are subtracted from P&L.
A15: Want imports from your broker, reports by time of day and price, a P&L calendar and a playbook?
A16: See the full Greenwick Journal: https://greenwick.trade/trading-journal/
A18: Education only, not financial advice. greenwick.trade

Sheet Trades
A1: Date | B1: Time | C1: Symbol | D1: Side | E1: Shares | F1: Entry | G1: Exit | H1: Stop | I1: Fees | J1: Setup | K1: Mistake | L1: Notes | M1: P&L ($) | N1: R multiple | O1: Result
A2: 46301 | B2: 0.40416667 | C2: ABCD | D2: Long | E2: 500 | F2: 4.1 | G2: 4.35 | H2: 3.98 | I2: 0 | J2: First pullback | K2: None | L2: Example row: delete me. Entered on first pullback after the open. | M2: =IF(OR(E2="",F2="",G2=""),"",IF(D2="Short",-1,1)*(G2-F2)*E2-N(I2)) -> 125 | N2: =IF(OR(M2="",H2="",H2=F2),"",M2/(ABS(F2-H2)*E2)) -> 2.0833333 | O2: =IF(M2="","",IF(M2>0,"Win",IF(M2<0,"Loss","Flat"))) -> Win
M3: =IF(OR(E3="",F3="",G3=""),"",IF(D3="Short",-1,1)*(G3-F3)*E3-N(I3)) | N3: =IF(OR(M3="",H3="",H3=F3),"",M3/(ABS(F3-H3)*E3)) | O3: =IF(M3="","",IF(M3>0,"Win",IF(M3<0,"Loss","Flat")))
M4: =IF(OR(E4="",F4="",G4=""),"",IF(D4="Short",-1,1)*(G4-F4)*E4-N(I4)) | N4: =IF(OR(M4="",H4="",H4=F4),"",M4/(ABS(F4-H4)*E4)) | O4: =IF(M4="","",IF(M4>0,"Win",IF(M4<0,"Loss","Flat")))
M5: =IF(OR(E5="",F5="",G5=""),"",IF(D5="Short",-1,1)*(G5-F5)*E5-N(I5)) | N5: =IF(OR(M5="",H5="",H5=F5),"",M5/(ABS(F5-H5)*E5)) | O5: =IF(M5="","",IF(M5>0,"Win",IF(M5<0,"Loss","Flat")))
M6: =IF(OR(E6="",F6="",G6=""),"",IF(D6="Short",-1,1)*(G6-F6)*E6-N(I6)) | N6: =IF(OR(M6="",H6="",H6=F6),"",M6/(ABS(F6-H6)*E6)) | O6: =IF(M6="","",IF(M6>0,"Win",IF(M6<0,"Loss","Flat")))
M7: =IF(OR(E7="",F7="",G7=""),"",IF(D7="Short",-1,1)*(G7-F7)*E7-N(I7)) | N7: =IF(OR(M7="",H7="",H7=F7),"",M7/(ABS(F7-H7)*E7)) | O7: =IF(M7="","",IF(M7>0,"Win",IF(M7<0,"Loss","Flat")))
M8: =IF(OR(E8="",F8="",G8=""),"",IF(D8="Short",-1,1)*(G8-F8)*E8-N(I8)) | N8: =IF(OR(M8="",H8="",H8=F8),"",M8/(ABS(F8-H8)*E8)) | O8: =IF(M8="","",IF(M8>0,"Win",IF(M8<0,"Loss","Flat")))
M9: =IF(OR(E9="",F9="",G9=""),"",IF(D9="Short",-1,1)*(G9-F9)*E9-N(I9)) | N9: =IF(OR(M9="",H9="",H9=F9),"",M9/(ABS(F9-H9)*E9)) | O9: =IF(M9="","",IF(M9>0,"Win",IF(M9<0,"Loss","Flat")))
M10: =IF(OR(E10="",F10="",G10=""),"",IF(D10="Short",-1,1)*(G10-F10)*E10-N(I10)) | N10: =IF(OR(M10="",H10="",H10=F10),"",M10/(ABS(F10-H10)*E10)) | O10: =IF(M10="","",IF(M10>0,"Win",IF(M10<0,"Loss","Flat")))
M11: =IF(OR(E11="",F11="",G11=""),"",IF(D11="Short",-1,1)*(G11-F11)*E11-N(I11)) | N11: =IF(OR(M11="",H11="",H11=F11),"",M11/(ABS(F11-H11)*E11)) | O11: =IF(M11="","",IF(M11>0,"Win",IF(M11<0,"Loss","Flat")))
M12: =IF(OR(E12="",F12="",G12=""),"",IF(D12="Short",-1,1)*(G12-F12)*E12-N(I12)) | N12: =IF(OR(M12="",H12="",H12=F12),"",M12/(ABS(F12-H12)*E12)) | O12: =IF(M12="","",IF(M12>0,"Win",IF(M12<0,"Loss","Flat")))
M13: =IF(OR(E13="",F13="",G13=""),"",IF(D13="Short",-1,1)*(G13-F13)*E13-N(I13)) | N13: =IF(OR(M13="",H13="",H13=F13),"",M13/(ABS(F13-H13)*E13)) | O13: =IF(M13="","",IF(M13>0,"Win",IF(M13<0,"Loss","Flat")))
M14: =IF(OR(E14="",F14="",G14=""),"",IF(D14="Short",-1,1)*(G14-F14)*E14-N(I14)) | N14: =IF(OR(M14="",H14="",H14=F14),"",M14/(ABS(F14-H14)*E14)) | O14: =IF(M14="","",IF(M14>0,"Win",IF(M14<0,"Loss","Flat")))
... M501: =IF(OR(E501="",F501="",G501=""),"",IF(D501="Short",-1,1)*(G501-F501)*E501-N(I501)) | N501: =IF(OR(M501="",H501="",H501=F501),"",M501/(ABS(F501-H501)*E501)) | O501: =IF(M501="","",IF(M501>0,"Win",IF(M501<0,"Loss","Flat")))

Sheet Summary
A1: Summary
A3: Trades | B3: =COUNT(Trades!$M$2:$M$501) -> 1 | G3: Mistake | H3: Count | I3: P&L ($)
A4: Wins | B4: =COUNTIF(Trades!$O$2:$O$501,"Win") -> 1 | G4: =IF(Lists!B2="","",Lists!B2) -> None | H4: =IF(G4="","",COUNTIF(Trades!$K$2:$K$501,G4)) -> 1 | I4: =IF(G4="","",SUMIF(Trades!$K$2:$K$501,G4,Trades!$M$2:$M$501)) -> 125
A5: Losses | B5: =COUNTIF(Trades!$O$2:$O$501,"Loss") -> 0 | G5: =IF(Lists!B3="","",Lists!B3) -> Chased entry | H5: =IF(G5="","",COUNTIF(Trades!$K$2:$K$501,G5)) -> 0 | I5: =IF(G5="","",SUMIF(Trades!$K$2:$K$501,G5,Trades!$M$2:$M$501)) -> 0
A6: Win rate | B6: =IF(B3=0,"",B4/B3) -> 1 | G6: =IF(Lists!B4="","",Lists!B4) -> No stop | H6: =IF(G6="","",COUNTIF(Trades!$K$2:$K$501,G6)) -> 0 | I6: =IF(G6="","",SUMIF(Trades!$K$2:$K$501,G6,Trades!$M$2:$M$501)) -> 0
A7: Total P&L ($) | B7: =SUM(Trades!$M$2:$M$501) -> 125 | G7: =IF(Lists!B5="","",Lists!B5) -> Moved stop | H7: =IF(G7="","",COUNTIF(Trades!$K$2:$K$501,G7)) -> 0 | I7: =IF(G7="","",SUMIF(Trades!$K$2:$K$501,G7,Trades!$M$2:$M$501)) -> 0
A8: Average win ($) | B8: =IFERROR(AVERAGEIF(Trades!$M$2:$M$501,">0"),"") -> 125 | G8: =IF(Lists!B6="","",Lists!B6) -> Oversized | H8: =IF(G8="","",COUNTIF(Trades!$K$2:$K$501,G8)) -> 0 | I8: =IF(G8="","",SUMIF(Trades!$K$2:$K$501,G8,Trades!$M$2:$M$501)) -> 0
A9: Average loss ($) | B9: =IFERROR(AVERAGEIF(Trades!$M$2:$M$501,"<0"),"") | G9: =IF(Lists!B7="","",Lists!B7) -> Revenge trade | H9: =IF(G9="","",COUNTIF(Trades!$K$2:$K$501,G9)) -> 0 | I9: =IF(G9="","",SUMIF(Trades!$K$2:$K$501,G9,Trades!$M$2:$M$501)) -> 0
A10: Profit factor | B10: =IFERROR(SUMIF(Trades!$M$2:$M$501,">0")/-SUMIF(Trades!$M$2:$M$501,"<0"),"") | G10: =IF(Lists!B8="","",Lists!B8) -> Early exit | H10: =IF(G10="","",COUNTIF(Trades!$K$2:$K$501,G10)) -> 0 | I10: =IF(G10="","",SUMIF(Trades!$K$2:$K$501,G10,Trades!$M$2:$M$501)) -> 0
A11: Average R | B11: =IFERROR(AVERAGE(Trades!$N$2:$N$501),"") -> 2.0833333 | G11: =IF(Lists!B9="","",Lists!B9) -> Held loser too long | H11: =IF(G11="","",COUNTIF(Trades!$K$2:$K$501,G11)) -> 0 | I11: =IF(G11="","",SUMIF(Trades!$K$2:$K$501,G11,Trades!$M$2:$M$501)) -> 0
A12: Largest win ($) | B12: =IF(B4=0,"",MAX(Trades!$M$2:$M$501)) -> 125 | G12: =IF(Lists!B10="","",Lists!B10) | H12: =IF(G12="","",COUNTIF(Trades!$K$2:$K$501,G12)) | I12: =IF(G12="","",SUMIF(Trades!$K$2:$K$501,G12,Trades!$M$2:$M$501))
A13: Largest loss ($) | B13: =IF(B5=0,"",MIN(Trades!$M$2:$M$501)) | G13: =IF(Lists!B11="","",Lists!B11) | H13: =IF(G13="","",COUNTIF(Trades!$K$2:$K$501,G13)) | I13: =IF(G13="","",SUMIF(Trades!$K$2:$K$501,G13,Trades!$M$2:$M$501))
G14: =IF(Lists!B12="","",Lists!B12) | H14: =IF(G14="","",COUNTIF(Trades!$K$2:$K$501,G14)) | I14: =IF(G14="","",SUMIF(Trades!$K$2:$K$501,G14,Trades!$M$2:$M$501))
G15: =IF(Lists!B13="","",Lists!B13) | H15: =IF(G15="","",COUNTIF(Trades!$K$2:$K$501,G15)) | I15: =IF(G15="","",SUMIF(Trades!$K$2:$K$501,G15,Trades!$M$2:$M$501))
A16: By setup | G16: =IF(Lists!B14="","",Lists!B14) | H16: =IF(G16="","",COUNTIF(Trades!$K$2:$K$501,G16)) | I16: =IF(G16="","",SUMIF(Trades!$K$2:$K$501,G16,Trades!$M$2:$M$501))
A17: Setup | B17: Trades | C17: Win rate | D17: P&L ($) | E17: Average R | G17: =IF(Lists!B15="","",Lists!B15) | H17: =IF(G17="","",COUNTIF(Trades!$K$2:$K$501,G17)) | I17: =IF(G17="","",SUMIF(Trades!$K$2:$K$501,G17,Trades!$M$2:$M$501))
A18: =IF(Lists!A2="","",Lists!A2) -> Gap and go | B18: =IF(A18="","",COUNTIFS(Trades!$J$2:$J$501,A18,Trades!$M$2:$M$501,"<>")) -> 0 | C18: =IF(OR(A18="",B18=0),"",COUNTIFS(Trades!$J$2:$J$501,A18,Trades!$O$2:$O$501,"Win")/B18) | D18: =IF(A18="","",SUMIF(Trades!$J$2:$J$501,A18,Trades!$M$2:$M$501)) -> 0 | E18: =IF(OR(A18="",B18=0),"",IFERROR(AVERAGEIF(Trades!$J$2:$J$501,A18,Trades!$N$2:$N$501),"")) | G18: =IF(Lists!B16="","",Lists!B16) | H18: =IF(G18="","",COUNTIF(Trades!$K$2:$K$501,G18)) | I18: =IF(G18="","",SUMIF(Trades!$K$2:$K$501,G18,Trades!$M$2:$M$501))
A19: =IF(Lists!A3="","",Lists!A3) -> First pullback | B19: =IF(A19="","",COUNTIFS(Trades!$J$2:$J$501,A19,Trades!$M$2:$M$501,"<>")) -> 1 | C19: =IF(OR(A19="",B19=0),"",COUNTIFS(Trades!$J$2:$J$501,A19,Trades!$O$2:$O$501,"Win")/B19) -> 1 | D19: =IF(A19="","",SUMIF(Trades!$J$2:$J$501,A19,Trades!$M$2:$M$501)) -> 125 | E19: =IF(OR(A19="",B19=0),"",IFERROR(AVERAGEIF(Trades!$J$2:$J$501,A19,Trades!$N$2:$N$501),"")) -> 2.0833333 | G19: =IF(Lists!B17="","",Lists!B17) | H19: =IF(G19="","",COUNTIF(Trades!$K$2:$K$501,G19)) | I19: =IF(G19="","",SUMIF(Trades!$K$2:$K$501,G19,Trades!$M$2:$M$501))
A20: =IF(Lists!A4="","",Lists!A4) -> VWAP reclaim | B20: =IF(A20="","",COUNTIFS(Trades!$J$2:$J$501,A20,Trades!$M$2:$M$501,"<>")) -> 0 | C20: =IF(OR(A20="",B20=0),"",COUNTIFS(Trades!$J$2:$J$501,A20,Trades!$O$2:$O$501,"Win")/B20) | D20: =IF(A20="","",SUMIF(Trades!$J$2:$J$501,A20,Trades!$M$2:$M$501)) -> 0 | E20: =IF(OR(A20="",B20=0),"",IFERROR(AVERAGEIF(Trades!$J$2:$J$501,A20,Trades!$N$2:$N$501),"")) | G20: =IF(Lists!B18="","",Lists!B18) | H20: =IF(G20="","",COUNTIF(Trades!$K$2:$K$501,G20)) | I20: =IF(G20="","",SUMIF(Trades!$K$2:$K$501,G20,Trades!$M$2:$M$501))
A21: =IF(Lists!A5="","",Lists!A5) -> Breakout | B21: =IF(A21="","",COUNTIFS(Trades!$J$2:$J$501,A21,Trades!$M$2:$M$501,"<>")) -> 0 | C21: =IF(OR(A21="",B21=0),"",COUNTIFS(Trades!$J$2:$J$501,A21,Trades!$O$2:$O$501,"Win")/B21) | D21: =IF(A21="","",SUMIF(Trades!$J$2:$J$501,A21,Trades!$M$2:$M$501)) -> 0 | E21: =IF(OR(A21="",B21=0),"",IFERROR(AVERAGEIF(Trades!$J$2:$J$501,A21,Trades!$N$2:$N$501),"")) | G21: =IF(Lists!B19="","",Lists!B19) | H21: =IF(G21="","",COUNTIF(Trades!$K$2:$K$501,G21)) | I21: =IF(G21="","",SUMIF(Trades!$K$2:$K$501,G21,Trades!$M$2:$M$501))
A22: =IF(Lists!A6="","",Lists!A6) -> Reversal | B22: =IF(A22="","",COUNTIFS(Trades!$J$2:$J$501,A22,Trades!$M$2:$M$501,"<>")) -> 0 | C22: =IF(OR(A22="",B22=0),"",COUNTIFS(Trades!$J$2:$J$501,A22,Trades!$O$2:$O$501,"Win")/B22) | D22: =IF(A22="","",SUMIF(Trades!$J$2:$J$501,A22,Trades!$M$2:$M$501)) -> 0 | E22: =IF(OR(A22="",B22=0),"",IFERROR(AVERAGEIF(Trades!$J$2:$J$501,A22,Trades!$N$2:$N$501),"")) | G22: =IF(Lists!B20="","",Lists!B20) | H22: =IF(G22="","",COUNTIF(Trades!$K$2:$K$501,G22)) | I22: =IF(G22="","",SUMIF(Trades!$K$2:$K$501,G22,Trades!$M$2:$M$501))
A23: =IF(Lists!A7="","",Lists!A7) -> Other | B23: =IF(A23="","",COUNTIFS(Trades!$J$2:$J$501,A23,Trades!$M$2:$M$501,"<>")) -> 0 | C23: =IF(OR(A23="",B23=0),"",COUNTIFS(Trades!$J$2:$J$501,A23,Trades!$O$2:$O$501,"Win")/B23) | D23: =IF(A23="","",SUMIF(Trades!$J$2:$J$501,A23,Trades!$M$2:$M$501)) -> 0 | E23: =IF(OR(A23="",B23=0),"",IFERROR(AVERAGEIF(Trades!$J$2:$J$501,A23,Trades!$N$2:$N$501),"")) | G23: =IF(Lists!B21="","",Lists!B21) | H23: =IF(G23="","",COUNTIF(Trades!$K$2:$K$501,G23)) | I23: =IF(G23="","",SUMIF(Trades!$K$2:$K$501,G23,Trades!$M$2:$M$501))
A24: =IF(Lists!A8="","",Lists!A8) | B24: =IF(A24="","",COUNTIFS(Trades!$J$2:$J$501,A24,Trades!$M$2:$M$501,"<>")) | C24: =IF(OR(A24="",B24=0),"",COUNTIFS(Trades!$J$2:$J$501,A24,Trades!$O$2:$O$501,"Win")/B24) | D24: =IF(A24="","",SUMIF(Trades!$J$2:$J$501,A24,Trades!$M$2:$M$501)) | E24: =IF(OR(A24="",B24=0),"",IFERROR(AVERAGEIF(Trades!$J$2:$J$501,A24,Trades!$N$2:$N$501),"")) | G24: =IF(Lists!B22="","",Lists!B22) | H24: =IF(G24="","",COUNTIF(Trades!$K$2:$K$501,G24)) | I24: =IF(G24="","",SUMIF(Trades!$K$2:$K$501,G24,Trades!$M$2:$M$501))
A25: =IF(Lists!A9="","",Lists!A9) | B25: =IF(A25="","",COUNTIFS(Trades!$J$2:$J$501,A25,Trades!$M$2:$M$501,"<>")) | C25: =IF(OR(A25="",B25=0),"",COUNTIFS(Trades!$J$2:$J$501,A25,Trades!$O$2:$O$501,"Win")/B25) | D25: =IF(A25="","",SUMIF(Trades!$J$2:$J$501,A25,Trades!$M$2:$M$501)) | E25: =IF(OR(A25="",B25=0),"",IFERROR(AVERAGEIF(Trades!$J$2:$J$501,A25,Trades!$N$2:$N$501),"")) | G25: =IF(Lists!B23="","",Lists!B23) | H25: =IF(G25="","",COUNTIF(Trades!$K$2:$K$501,G25)) | I25: =IF(G25="","",SUMIF(Trades!$K$2:$K$501,G25,Trades!$M$2:$M$501))
A26: =IF(Lists!A10="","",Lists!A10) | B26: =IF(A26="","",COUNTIFS(Trades!$J$2:$J$501,A26,Trades!$M$2:$M$501,"<>")) | C26: =IF(OR(A26="",B26=0),"",COUNTIFS(Trades!$J$2:$J$501,A26,Trades!$O$2:$O$501,"Win")/B26) | D26: =IF(A26="","",SUMIF(Trades!$J$2:$J$501,A26,Trades!$M$2:$M$501)) | E26: =IF(OR(A26="",B26=0),"",IFERROR(AVERAGEIF(Trades!$J$2:$J$501,A26,Trades!$N$2:$N$501),"")) | G26: =IF(Lists!B24="","",Lists!B24) | H26: =IF(G26="","",COUNTIF(Trades!$K$2:$K$501,G26)) | I26: =IF(G26="","",SUMIF(Trades!$K$2:$K$501,G26,Trades!$M$2:$M$501))
A27: =IF(Lists!A11="","",Lists!A11) | B27: =IF(A27="","",COUNTIFS(Trades!$J$2:$J$501,A27,Trades!$M$2:$M$501,"<>")) | C27: =IF(OR(A27="",B27=0),"",COUNTIFS(Trades!$J$2:$J$501,A27,Trades!$O$2:$O$501,"Win")/B27) | D27: =IF(A27="","",SUMIF(Trades!$J$2:$J$501,A27,Trades!$M$2:$M$501)) | E27: =IF(OR(A27="",B27=0),"",IFERROR(AVERAGEIF(Trades!$J$2:$J$501,A27,Trades!$N$2:$N$501),"")) | G27: =IF(Lists!B25="","",Lists!B25) | H27: =IF(G27="","",COUNTIF(Trades!$K$2:$K$501,G27)) | I27: =IF(G27="","",SUMIF(Trades!$K$2:$K$501,G27,Trades!$M$2:$M$501))
A28: =IF(Lists!A12="","",Lists!A12) | B28: =IF(A28="","",COUNTIFS(Trades!$J$2:$J$501,A28,Trades!$M$2:$M$501,"<>")) | C28: =IF(OR(A28="",B28=0),"",COUNTIFS(Trades!$J$2:$J$501,A28,Trades!$O$2:$O$501,"Win")/B28) | D28: =IF(A28="","",SUMIF(Trades!$J$2:$J$501,A28,Trades!$M$2:$M$501)) | E28: =IF(OR(A28="",B28=0),"",IFERROR(AVERAGEIF(Trades!$J$2:$J$501,A28,Trades!$N$2:$N$501),"")) | G28: =IF(Lists!B26="","",Lists!B26) | H28: =IF(G28="","",COUNTIF(Trades!$K$2:$K$501,G28)) | I28: =IF(G28="","",SUMIF(Trades!$K$2:$K$501,G28,Trades!$M$2:$M$501))
A29: =IF(Lists!A13="","",Lists!A13) | B29: =IF(A29="","",COUNTIFS(Trades!$J$2:$J$501,A29,Trades!$M$2:$M$501,"<>")) | C29: =IF(OR(A29="",B29=0),"",COUNTIFS(Trades!$J$2:$J$501,A29,Trades!$O$2:$O$501,"Win")/B29) | D29: =IF(A29="","",SUMIF(Trades!$J$2:$J$501,A29,Trades!$M$2:$M$501)) | E29: =IF(OR(A29="",B29=0),"",IFERROR(AVERAGEIF(Trades!$J$2:$J$501,A29,Trades!$N$2:$N$501),"")) | G29: =IF(Lists!B27="","",Lists!B27) | H29: =IF(G29="","",COUNTIF(Trades!$K$2:$K$501,G29)) | I29: =IF(G29="","",SUMIF(Trades!$K$2:$K$501,G29,Trades!$M$2:$M$501))
... A33: =IF(Lists!A17="","",Lists!A17) | B33: =IF(A33="","",COUNTIFS(Trades!$J$2:$J$501,A33,Trades!$M$2:$M$501,"<>")) | C33: =IF(OR(A33="",B33=0),"",COUNTIFS(Trades!$J$2:$J$501,A33,Trades!$O$2:$O$501,"Win")/B33) | D33: =IF(A33="","",SUMIF(Trades!$J$2:$J$501,A33,Trades!$M$2:$M$501)) | E33: =IF(OR(A33="",B33=0),"",IFERROR(AVERAGEIF(Trades!$J$2:$J$501,A33,Trades!$N$2:$N$501),"")) | G33: =IF(Lists!B31="","",Lists!B31) | H33: =IF(G33="","",COUNTIF(Trades!$K$2:$K$501,G33)) | I33: =IF(G33="","",SUMIF(Trades!$K$2:$K$501,G33,Trades!$M$2:$M$501))
A34: =IF(Lists!A18="","",Lists!A18) | B34: =IF(A34="","",COUNTIFS(Trades!$J$2:$J$501,A34,Trades!$M$2:$M$501,"<>")) | C34: =IF(OR(A34="",B34=0),"",COUNTIFS(Trades!$J$2:$J$501,A34,Trades!$O$2:$O$501,"Win")/B34) | D34: =IF(A34="","",SUMIF(Trades!$J$2:$J$501,A34,Trades!$M$2:$M$501)) | E34: =IF(OR(A34="",B34=0),"",IFERROR(AVERAGEIF(Trades!$J$2:$J$501,A34,Trades!$N$2:$N$501),""))
A35: =IF(Lists!A19="","",Lists!A19) | B35: =IF(A35="","",COUNTIFS(Trades!$J$2:$J$501,A35,Trades!$M$2:$M$501,"<>")) | C35: =IF(OR(A35="",B35=0),"",COUNTIFS(Trades!$J$2:$J$501,A35,Trades!$O$2:$O$501,"Win")/B35) | D35: =IF(A35="","",SUMIF(Trades!$J$2:$J$501,A35,Trades!$M$2:$M$501)) | E35: =IF(OR(A35="",B35=0),"",IFERROR(AVERAGEIF(Trades!$J$2:$J$501,A35,Trades!$N$2:$N$501),""))
A36: =IF(Lists!A20="","",Lists!A20) | B36: =IF(A36="","",COUNTIFS(Trades!$J$2:$J$501,A36,Trades!$M$2:$M$501,"<>")) | C36: =IF(OR(A36="",B36=0),"",COUNTIFS(Trades!$J$2:$J$501,A36,Trades!$O$2:$O$501,"Win")/B36) | D36: =IF(A36="","",SUMIF(Trades!$J$2:$J$501,A36,Trades!$M$2:$M$501)) | E36: =IF(OR(A36="",B36=0),"",IFERROR(AVERAGEIF(Trades!$J$2:$J$501,A36,Trades!$N$2:$N$501),""))
A37: =IF(Lists!A21="","",Lists!A21) | B37: =IF(A37="","",COUNTIFS(Trades!$J$2:$J$501,A37,Trades!$M$2:$M$501,"<>")) | C37: =IF(OR(A37="",B37=0),"",COUNTIFS(Trades!$J$2:$J$501,A37,Trades!$O$2:$O$501,"Win")/B37) | D37: =IF(A37="","",SUMIF(Trades!$J$2:$J$501,A37,Trades!$M$2:$M$501)) | E37: =IF(OR(A37="",B37=0),"",IFERROR(AVERAGEIF(Trades!$J$2:$J$501,A37,Trades!$N$2:$N$501),""))
A38: =IF(Lists!A22="","",Lists!A22) | B38: =IF(A38="","",COUNTIFS(Trades!$J$2:$J$501,A38,Trades!$M$2:$M$501,"<>")) | C38: =IF(OR(A38="",B38=0),"",COUNTIFS(Trades!$J$2:$J$501,A38,Trades!$O$2:$O$501,"Win")/B38) | D38: =IF(A38="","",SUMIF(Trades!$J$2:$J$501,A38,Trades!$M$2:$M$501)) | E38: =IF(OR(A38="",B38=0),"",IFERROR(AVERAGEIF(Trades!$J$2:$J$501,A38,Trades!$N$2:$N$501),""))
A39: =IF(Lists!A23="","",Lists!A23) | B39: =IF(A39="","",COUNTIFS(Trades!$J$2:$J$501,A39,Trades!$M$2:$M$501,"<>")) | C39: =IF(OR(A39="",B39=0),"",COUNTIFS(Trades!$J$2:$J$501,A39,Trades!$O$2:$O$501,"Win")/B39) | D39: =IF(A39="","",SUMIF(Trades!$J$2:$J$501,A39,Trades!$M$2:$M$501)) | E39: =IF(OR(A39="",B39=0),"",IFERROR(AVERAGEIF(Trades!$J$2:$J$501,A39,Trades!$N$2:$N$501),""))
A40: =IF(Lists!A24="","",Lists!A24) | B40: =IF(A40="","",COUNTIFS(Trades!$J$2:$J$501,A40,Trades!$M$2:$M$501,"<>")) | C40: =IF(OR(A40="",B40=0),"",COUNTIFS(Trades!$J$2:$J$501,A40,Trades!$O$2:$O$501,"Win")/B40) | D40: =IF(A40="","",SUMIF(Trades!$J$2:$J$501,A40,Trades!$M$2:$M$501)) | E40: =IF(OR(A40="",B40=0),"",IFERROR(AVERAGEIF(Trades!$J$2:$J$501,A40,Trades!$N$2:$N$501),""))
A41: =IF(Lists!A25="","",Lists!A25) | B41: =IF(A41="","",COUNTIFS(Trades!$J$2:$J$501,A41,Trades!$M$2:$M$501,"<>")) | C41: =IF(OR(A41="",B41=0),"",COUNTIFS(Trades!$J$2:$J$501,A41,Trades!$O$2:$O$501,"Win")/B41) | D41: =IF(A41="","",SUMIF(Trades!$J$2:$J$501,A41,Trades!$M$2:$M$501)) | E41: =IF(OR(A41="",B41=0),"",IFERROR(AVERAGEIF(Trades!$J$2:$J$501,A41,Trades!$N$2:$N$501),""))
A42: =IF(Lists!A26="","",Lists!A26) | B42: =IF(A42="","",COUNTIFS(Trades!$J$2:$J$501,A42,Trades!$M$2:$M$501,"<>")) | C42: =IF(OR(A42="",B42=0),"",COUNTIFS(Trades!$J$2:$J$501,A42,Trades!$O$2:$O$501,"Win")/B42) | D42: =IF(A42="","",SUMIF(Trades!$J$2:$J$501,A42,Trades!$M$2:$M$501)) | E42: =IF(OR(A42="",B42=0),"",IFERROR(AVERAGEIF(Trades!$J$2:$J$501,A42,Trades!$N$2:$N$501),""))
A43: =IF(Lists!A27="","",Lists!A27) | B43: =IF(A43="","",COUNTIFS(Trades!$J$2:$J$501,A43,Trades!$M$2:$M$501,"<>")) | C43: =IF(OR(A43="",B43=0),"",COUNTIFS(Trades!$J$2:$J$501,A43,Trades!$O$2:$O$501,"Win")/B43) | D43: =IF(A43="","",SUMIF(Trades!$J$2:$J$501,A43,Trades!$M$2:$M$501)) | E43: =IF(OR(A43="",B43=0),"",IFERROR(AVERAGEIF(Trades!$J$2:$J$501,A43,Trades!$N$2:$N$501),""))
A44: =IF(Lists!A28="","",Lists!A28) | B44: =IF(A44="","",COUNTIFS(Trades!$J$2:$J$501,A44,Trades!$M$2:$M$501,"<>")) | C44: =IF(OR(A44="",B44=0),"",COUNTIFS(Trades!$J$2:$J$501,A44,Trades!$O$2:$O$501,"Win")/B44) | D44: =IF(A44="","",SUMIF(Trades!$J$2:$J$501,A44,Trades!$M$2:$M$501)) | E44: =IF(OR(A44="",B44=0),"",IFERROR(AVERAGEIF(Trades!$J$2:$J$501,A44,Trades!$N$2:$N$501),""))
A45: =IF(Lists!A29="","",Lists!A29) | B45: =IF(A45="","",COUNTIFS(Trades!$J$2:$J$501,A45,Trades!$M$2:$M$501,"<>")) | C45: =IF(OR(A45="",B45=0),"",COUNTIFS(Trades!$J$2:$J$501,A45,Trades!$O$2:$O$501,"Win")/B45) | D45: =IF(A45="","",SUMIF(Trades!$J$2:$J$501,A45,Trades!$M$2:$M$501)) | E45: =IF(OR(A45="",B45=0),"",IFERROR(AVERAGEIF(Trades!$J$2:$J$501,A45,Trades!$N$2:$N$501),""))
... A47: =IF(Lists!A31="","",Lists!A31) | B47: =IF(A47="","",COUNTIFS(Trades!$J$2:$J$501,A47,Trades!$M$2:$M$501,"<>")) | C47: =IF(OR(A47="",B47=0),"",COUNTIFS(Trades!$J$2:$J$501,A47,Trades!$O$2:$O$501,"Win")/B47) | D47: =IF(A47="","",SUMIF(Trades!$J$2:$J$501,A47,Trades!$M$2:$M$501)) | E47: =IF(OR(A47="",B47=0),"",IFERROR(AVERAGEIF(Trades!$J$2:$J$501,A47,Trades!$N$2:$N$501),""))

Sheet Lists
A1: Setups | B1: Mistakes | D1: Edit these lists. Up to 30 entries each (rows 2 to 31).
A2: Gap and go | B2: None
A3: First pullback | B3: Chased entry
A4: VWAP reclaim | B4: No stop
A5: Breakout | B5: Moved stop
A6: Reversal | B6: Oversized
A7: Other | B7: Revenge trade
B8: Early exit
B9: Held loser too long
